BEGIN:VCALENDAR
VERSION:2.0
PRODID:https://www.kufer.de/kuferweb / DE
METHOD:PUBLISH
CALSCALE:GREGORIAN
X-WR-TIMEZONE:Europe/Berlin
BEGIN:VTIMEZONE
TZID:Europe/Berlin
X-LIC-LOCATION:Europe/Berlin
BEGIN:DAYLIGHT
TZOFFSETFROM:+0100
TZOFFSETTO:+0200
TZNAME:CEST
DTSTART:19700329T020000
RRULE:FREQ=YEARLY;INTERVAL=1;BYDAY=-1SU;BYMONTH=3
END:DAYLIGHT
BEGIN:STANDARD
TZOFFSETFROM:+0200
TZOFFSETTO:+0100
TZNAME:CET
DTSTART:19701025T030000
RRULE:FREQ=YEARLY;INTERVAL=1;BYDAY=-1SU;BYMONTH=10
END:STANDARD
END:VTIMEZONE
BEGIN:VEVENT
DTSTAMP:20260423T132045
DTSTART;TZID=Europe/Berlin:20260520T181500
DTEND;TZID=Europe/Berlin:20260520T193000
UID:G30127C-20260520T181500@VHSEUTIN
SUMMARY:Yoga experience (G30127C) 
LOCATION:Vhs-Haus, Raum 3, Plöner Str. 19, 23701 Eutin
END:VEVENT
BEGIN:VEVENT
DTSTAMP:20260423T132045
DTSTART;TZID=Europe/Berlin:20260527T181500
DTEND;TZID=Europe/Berlin:20260527T193000
UID:G30127C-20260527T181500@VHSEUTIN
SUMMARY:Yoga experience (G30127C) 
LOCATION:Vhs-Haus, Raum 3, Plöner Str. 19, 23701 Eutin
END:VEVENT
BEGIN:VEVENT
DTSTAMP:20260423T132045
DTSTART;TZID=Europe/Berlin:20260603T181500
DTEND;TZID=Europe/Berlin:20260603T193000
UID:G30127C-20260603T181500@VHSEUTIN
SUMMARY:Yoga experience (G30127C) 
LOCATION:Vhs-Haus, Raum 3, Plöner Str. 19, 23701 Eutin
END:VEVENT
BEGIN:VEVENT
DTSTAMP:20260423T132045
DTSTART;TZID=Europe/Berlin:20260617T181500
DTEND;TZID=Europe/Berlin:20260617T193000
UID:G30127C-20260617T181500@VHSEUTIN
SUMMARY:Yoga experience (G30127C) 
LOCATION:Vhs-Haus, Raum 3, Plöner Str. 19, 23701 Eutin
END:VEVENT
BEGIN:VEVENT
DTSTAMP:20260423T132045
DTSTART;TZID=Europe/Berlin:20260624T181500
DTEND;TZID=Europe/Berlin:20260624T193000
UID:G30127C-20260624T181500@VHSEUTIN
SUMMARY:Yoga experience (G30127C) 
LOCATION:Vhs-Haus, Raum 3, Plöner Str. 19, 23701 Eutin
END:VEVENT
BEGIN:VEVENT
DTSTAMP:20260423T132045
DTSTART;TZID=Europe/Berlin:20260701T181500
DTEND;TZID=Europe/Berlin:20260701T193000
UID:G30127C-20260701T181500@VHSEUTIN
DESCRIPTION:Ersatz für Ausfall am 10.06.2026
SUMMARY:Yoga experience (G30127C) 
LOCATION:Vhs-Haus, Raum 3, Plöner Str. 19, 23701 Eutin
END:VEVENT
END:VCALENDAR